BEGIN:VCALENDAR
VERSION:2.0
PRODID:-//Fork&#039;d - ECPv6.15.20//NONSGML v1.0//EN
CALSCALE:GREGORIAN
METHOD:PUBLISH
X-WR-CALNAME:Fork&#039;d
X-ORIGINAL-URL:https://forkdmn.com
X-WR-CALDESC:Events for Fork&#039;d
REFRESH-INTERVAL;VALUE=DURATION:PT1H
X-Robots-Tag:noindex
X-PUBLISHED-TTL:PT1H
BEGIN:VTIMEZONE
TZID:America/Chicago
BEGIN:DAYLIGHT
TZOFFSETFROM:-0600
TZOFFSETTO:-0500
TZNAME:CDT
DTSTART:20250309T080000
END:DAYLIGHT
BEGIN:STANDARD
TZOFFSETFROM:-0500
TZOFFSETTO:-0600
TZNAME:CST
DTSTART:20251102T070000
END:STANDARD
BEGIN:DAYLIGHT
TZOFFSETFROM:-0600
TZOFFSETTO:-0500
TZNAME:CDT
DTSTART:20260308T080000
END:DAYLIGHT
BEGIN:STANDARD
TZOFFSETFROM:-0500
TZOFFSETTO:-0600
TZNAME:CST
DTSTART:20261101T070000
END:STANDARD
BEGIN:DAYLIGHT
TZOFFSETFROM:-0600
TZOFFSETTO:-0500
TZNAME:CDT
DTSTART:20270314T080000
END:DAYLIGHT
BEGIN:STANDARD
TZOFFSETFROM:-0500
TZOFFSETTO:-0600
TZNAME:CST
DTSTART:20271107T070000
END:STANDARD
END:VTIMEZONE
BEGIN:VEVENT
DTSTART;TZID=America/Chicago:20260214T100000
DTEND;TZID=America/Chicago:20260214T220000
DTSTAMP:20260425T052549
CREATED:20260205T222015Z
LAST-MODIFIED:20260205T222755Z
UID:298-1771063200-1771106400@forkdmn.com
SUMMARY:Valentines at Fork'd
DESCRIPTION:Love is in the Air and on the Menu!\nJoin us this Valentine’s Day for a special evening with your someone special. We’ve crafted a lineup of romantic dinner features made to impress from rich\, savory entrées to a dreamy dessert finale. No reservation required\, just bring your appetite and your sweetheart! \nValentine’s Features\nBoursin Stuffed Chicken – Spinach & boursin stuffed chicken breast served with grilled asparagus\, red skin mashed potatoes\, and sherry cream sauce.\nCoconut Shrimp – Crispy coconut shrimp with sweet chili sauce\, served alongside rice pilaf.\nFlat Iron Steak – Tender flat iron steak with red skin mashed potatoes\, mushroom gravy\, and grilled asparagus.\nWhite Chocolate Raspberry Cheesecake – The perfect sweet ending to a perfect evening.
URL:https://forkdmn.com/event/valentines-at-forkd/
LOCATION:Fork’d\, 1641 Plymouth Road\, Minnetonka\, MN\, 55305\, United States
ATTACH;FMTTYPE=image/jpeg:https://forkdmn.com/wp-content/uploads/2026/02/forkd-VDAY-2026.jpg
ORGANIZER;CN="Fork'd":MAILTO:info@forkdmn.com
END:VEVENT
END:VCALENDAR