BEGIN:VCALENDAR
VERSION:2.0
PRODID:-//Fork&#039;d - ECPv6.15.20//NONSGML v1.0//EN
CALSCALE:GREGORIAN
METHOD:PUBLISH
X-ORIGINAL-URL:https://forkdmn.com
X-WR-CALDESC:Events for Fork&#039;d
REFRESH-INTERVAL;VALUE=DURATION:PT1H
X-Robots-Tag:noindex
X-PUBLISHED-TTL:PT1H
BEGIN:VTIMEZONE
TZID:America/Chicago
BEGIN:DAYLIGHT
TZOFFSETFROM:-0600
TZOFFSETTO:-0500
TZNAME:CDT
DTSTART:20250309T080000
END:DAYLIGHT
BEGIN:STANDARD
TZOFFSETFROM:-0500
TZOFFSETTO:-0600
TZNAME:CST
DTSTART:20251102T070000
END:STANDARD
BEGIN:DAYLIGHT
TZOFFSETFROM:-0600
TZOFFSETTO:-0500
TZNAME:CDT
DTSTART:20260308T080000
END:DAYLIGHT
BEGIN:STANDARD
TZOFFSETFROM:-0500
TZOFFSETTO:-0600
TZNAME:CST
DTSTART:20261101T070000
END:STANDARD
BEGIN:DAYLIGHT
TZOFFSETFROM:-0600
TZOFFSETTO:-0500
TZNAME:CDT
DTSTART:20270314T080000
END:DAYLIGHT
BEGIN:STANDARD
TZOFFSETFROM:-0500
TZOFFSETTO:-0600
TZNAME:CST
DTSTART:20271107T070000
END:STANDARD
END:VTIMEZONE
BEGIN:VEVENT
DTSTART;VALUE=DATE:20260316
DTEND;VALUE=DATE:20260317
DTSTAMP:20260421T050626
CREATED:20260219T202939Z
LAST-MODIFIED:20260219T202939Z
UID:322-1773619200-1773705599@forkdmn.com
SUMMARY:Get FORK'D on Industry Mondays!
DESCRIPTION:B.A.R.E. (Bar & Restaurant Employee Appreciation)\nFork’d is showing love to fellow industry workers every Monday with killer deals. Enjoy half-price wine\, tap beer\, and rail drinks\, plus $6 shots of Jameson\, Fireball\, Jaegermeister\, and Sauza Tequila. On the food side\, all Fork’d appetizers are just $9\, chips & queso is $4\, and you can grab an 8-inch Panzza Pizza for $12.
URL:https://forkdmn.com/event/get-forkd-on-industry-mondays-6/
LOCATION:Fork’d\, 1641 Plymouth Road\, Minnetonka\, MN\, 55305\, United States
ATTACH;FMTTYPE=image/jpeg:https://forkdmn.com/wp-content/uploads/2026/02/industrymondays.jpg
END:VEVENT
END:VCALENDAR