BEGIN:VCALENDAR
VERSION:2.0
PRODID:-//Fork&#039;d - ECPv6.15.20//NONSGML v1.0//EN
CALSCALE:GREGORIAN
METHOD:PUBLISH
X-WR-CALNAME:Fork&#039;d
X-ORIGINAL-URL:https://forkdmn.com
X-WR-CALDESC:Events for Fork&#039;d
REFRESH-INTERVAL;VALUE=DURATION:PT1H
X-Robots-Tag:noindex
X-PUBLISHED-TTL:PT1H
BEGIN:VTIMEZONE
TZID:America/Chicago
BEGIN:DAYLIGHT
TZOFFSETFROM:-0600
TZOFFSETTO:-0500
TZNAME:CDT
DTSTART:20250309T080000
END:DAYLIGHT
BEGIN:STANDARD
TZOFFSETFROM:-0500
TZOFFSETTO:-0600
TZNAME:CST
DTSTART:20251102T070000
END:STANDARD
BEGIN:DAYLIGHT
TZOFFSETFROM:-0600
TZOFFSETTO:-0500
TZNAME:CDT
DTSTART:20260308T080000
END:DAYLIGHT
BEGIN:STANDARD
TZOFFSETFROM:-0500
TZOFFSETTO:-0600
TZNAME:CST
DTSTART:20261101T070000
END:STANDARD
BEGIN:DAYLIGHT
TZOFFSETFROM:-0600
TZOFFSETTO:-0500
TZNAME:CDT
DTSTART:20270314T080000
END:DAYLIGHT
BEGIN:STANDARD
TZOFFSETFROM:-0500
TZOFFSETTO:-0600
TZNAME:CST
DTSTART:20271107T070000
END:STANDARD
END:VTIMEZONE
BEGIN:VEVENT
DTSTART;VALUE=DATE:20260317
DTEND;VALUE=DATE:20260318
DTSTAMP:20260421T050457
CREATED:20260304T221306Z
LAST-MODIFIED:20260304T221743Z
UID:329-1773705600-1773791999@forkdmn.com
SUMMARY:St. Patrick's Day!
DESCRIPTION:
URL:https://forkdmn.com/event/st-patricks-day/
END:VEVENT
BEGIN:VEVENT
DTSTART;VALUE=DATE:20260320
DTEND;VALUE=DATE:20260321
DTSTAMP:20260421T050457
CREATED:20260219T202944Z
LAST-MODIFIED:20260219T202944Z
UID:323-1773964800-1774051199@forkdmn.com
SUMMARY:Friday Fish Fry
DESCRIPTION:Friday Night Fish Fry – A Weekly Tradition!\nEnd the week the right way with our Friday Night Fish Fry! We’re serving up golden\, crispy Alaskan cod made fresh to order – because Fridays were made for fish fry. Grab a seat\, bring the family\, and dig in. \nAlaskan Cod Dinner\nBeer battered Alaskan cod served with waffle fries\, Fork’d slaw\, lemon\, and housemade tartar sauce.\nAlaskan Cod Sandwich\nBeer battered Alaskan cod on a hoagie bun with lettuce\, tomato\, pickles\, waffle fries\, and housemade tartar sauce. \nAvailable every Friday\, come get it while it’s hot!
URL:https://forkdmn.com/event/friday-fish-fry-7/
LOCATION:Fork’d\, 1641 Plymouth Road\, Minnetonka\, MN\, 55305\, United States
ATTACH;FMTTYPE=image/jpeg:https://forkdmn.com/wp-content/uploads/2026/02/FridayFish.jpg
END:VEVENT
BEGIN:VEVENT
DTSTART;VALUE=DATE:20260323
DTEND;VALUE=DATE:20260324
DTSTAMP:20260421T050457
CREATED:20260219T203002Z
LAST-MODIFIED:20260219T203002Z
UID:324-1774224000-1774310399@forkdmn.com
SUMMARY:Get FORK'D on Industry Mondays!
DESCRIPTION:B.A.R.E. (Bar & Restaurant Employee Appreciation)\nFork’d is showing love to fellow industry workers every Monday with killer deals. Enjoy half-price wine\, tap beer\, and rail drinks\, plus $6 shots of Jameson\, Fireball\, Jaegermeister\, and Sauza Tequila. On the food side\, all Fork’d appetizers are just $9\, chips & queso is $4\, and you can grab an 8-inch Panzza Pizza for $12.
URL:https://forkdmn.com/event/get-forkd-on-industry-mondays-7/
LOCATION:Fork’d\, 1641 Plymouth Road\, Minnetonka\, MN\, 55305\, United States
ATTACH;FMTTYPE=image/jpeg:https://forkdmn.com/wp-content/uploads/2026/02/industrymondays.jpg
END:VEVENT
BEGIN:VEVENT
DTSTART;VALUE=DATE:20260324
DTEND;VALUE=DATE:20260325
DTSTAMP:20260421T050457
CREATED:20260324T214631Z
LAST-MODIFIED:20260324T220242Z
UID:351-1774310400-1774396799@forkdmn.com
SUMMARY:Taco Tuesday
DESCRIPTION:https://forkdmn.com/wp-content/uploads/2026/03/TACO-FOR-THE-WEB.pdf
URL:https://forkdmn.com/event/351/
ATTACH;FMTTYPE=application/pdf:https://forkdmn.com/wp-content/uploads/2026/03/TACO-FOR-THE-WEB-2.pdf
END:VEVENT
BEGIN:VEVENT
DTSTART;VALUE=DATE:20260327
DTEND;VALUE=DATE:20260328
DTSTAMP:20260421T050457
CREATED:20260219T203007Z
LAST-MODIFIED:20260324T215646Z
UID:325-1774569600-1774655999@forkdmn.com
SUMMARY:Friday Fish Fry
DESCRIPTION:Friday Fish Fry – A Weekly Tradition!\nEnd the week the right way with our Friday Fish Fry! We’re serving up golden\, crispy Alaskan cod made fresh to order – because Fridays were made for fish fry. Grab a seat\, bring the family\, and dig in. \nAlaskan Cod Dinner\nBeer battered Alaskan cod served with waffle fries\, Fork’d slaw\, lemon\, and housemade tartar sauce.\nAlaskan Cod Sandwich\nBeer battered Alaskan cod on a hoagie bun with lettuce\, tomato\, pickles\, waffle fries\, and housemade tartar sauce. \nAvailable every Friday\, come get it while it’s hot!
URL:https://forkdmn.com/event/friday-fish-fry-8/
LOCATION:Fork’d\, 1641 Plymouth Road\, Minnetonka\, MN\, 55305\, United States
ATTACH;FMTTYPE=image/jpeg:https://forkdmn.com/wp-content/uploads/2026/02/FridayFish.jpg
END:VEVENT
BEGIN:VEVENT
DTSTART;VALUE=DATE:20260330
DTEND;VALUE=DATE:20260331
DTSTAMP:20260421T050457
CREATED:20260219T203023Z
LAST-MODIFIED:20260219T203023Z
UID:326-1774828800-1774915199@forkdmn.com
SUMMARY:Get FORK'D on Industry Mondays!
DESCRIPTION:B.A.R.E. (Bar & Restaurant Employee Appreciation)\nFork’d is showing love to fellow industry workers every Monday with killer deals. Enjoy half-price wine\, tap beer\, and rail drinks\, plus $6 shots of Jameson\, Fireball\, Jaegermeister\, and Sauza Tequila. On the food side\, all Fork’d appetizers are just $9\, chips & queso is $4\, and you can grab an 8-inch Panzza Pizza for $12.
URL:https://forkdmn.com/event/get-forkd-on-industry-mondays-8/
LOCATION:Fork’d\, 1641 Plymouth Road\, Minnetonka\, MN\, 55305\, United States
ATTACH;FMTTYPE=image/jpeg:https://forkdmn.com/wp-content/uploads/2026/02/industrymondays.jpg
END:VEVENT
BEGIN:VEVENT
DTSTART;VALUE=DATE:20260403
DTEND;VALUE=DATE:20260404
DTSTAMP:20260421T050457
CREATED:20260219T203038Z
LAST-MODIFIED:20260219T203038Z
UID:327-1775174400-1775260799@forkdmn.com
SUMMARY:Friday Fish Fry
DESCRIPTION:Friday Night Fish Fry – A Weekly Tradition!\nEnd the week the right way with our Friday Night Fish Fry! We’re serving up golden\, crispy Alaskan cod made fresh to order – because Fridays were made for fish fry. Grab a seat\, bring the family\, and dig in. \nAlaskan Cod Dinner\nBeer battered Alaskan cod served with waffle fries\, Fork’d slaw\, lemon\, and housemade tartar sauce.\nAlaskan Cod Sandwich\nBeer battered Alaskan cod on a hoagie bun with lettuce\, tomato\, pickles\, waffle fries\, and housemade tartar sauce. \nAvailable every Friday\, come get it while it’s hot!
URL:https://forkdmn.com/event/friday-fish-fry-9/
LOCATION:Fork’d\, 1641 Plymouth Road\, Minnetonka\, MN\, 55305\, United States
ATTACH;FMTTYPE=image/jpeg:https://forkdmn.com/wp-content/uploads/2026/02/FridayFish.jpg
END:VEVENT
END:VCALENDAR