BEGIN:VCALENDAR
VERSION:2.0
PRODID:-//Fork&#039;d - ECPv6.15.20//NONSGML v1.0//EN
CALSCALE:GREGORIAN
METHOD:PUBLISH
X-WR-CALNAME:Fork&#039;d
X-ORIGINAL-URL:https://forkdmn.com
X-WR-CALDESC:Events for Fork&#039;d
REFRESH-INTERVAL;VALUE=DURATION:PT1H
X-Robots-Tag:noindex
X-PUBLISHED-TTL:PT1H
BEGIN:VTIMEZONE
TZID:America/Chicago
BEGIN:DAYLIGHT
TZOFFSETFROM:-0600
TZOFFSETTO:-0500
TZNAME:CDT
DTSTART:20250309T080000
END:DAYLIGHT
BEGIN:STANDARD
TZOFFSETFROM:-0500
TZOFFSETTO:-0600
TZNAME:CST
DTSTART:20251102T070000
END:STANDARD
BEGIN:DAYLIGHT
TZOFFSETFROM:-0600
TZOFFSETTO:-0500
TZNAME:CDT
DTSTART:20260308T080000
END:DAYLIGHT
BEGIN:STANDARD
TZOFFSETFROM:-0500
TZOFFSETTO:-0600
TZNAME:CST
DTSTART:20261101T070000
END:STANDARD
BEGIN:DAYLIGHT
TZOFFSETFROM:-0600
TZOFFSETTO:-0500
TZNAME:CDT
DTSTART:20270314T080000
END:DAYLIGHT
BEGIN:STANDARD
TZOFFSETFROM:-0500
TZOFFSETTO:-0600
TZNAME:CST
DTSTART:20271107T070000
END:STANDARD
END:VTIMEZONE
BEGIN:VEVENT
DTSTART;TZID=America/Chicago:20260208T140000
DTEND;TZID=America/Chicago:20260208T220000
DTSTAMP:20260421T080829
CREATED:20260205T224939Z
LAST-MODIFIED:20260208T154131Z
UID:301-1770559200-1770588000@forkdmn.com
SUMMARY:Super Bowl Sunday
DESCRIPTION:Catch the Big Game With Us!\nWhy watch from the couch when you can watch with us? Head over for the ultimate Super Bowl Sunday party\,  great drinks\, great food\, and a whole lot of fun. Whether you’re here for the game\, the commercials\, or just the good times\, we’ve got you covered. \nWhat’s Happening:\nHappy Hour from 2PM to Close – That’s right\, happy hour pricing ALL game long.\nBetting Score Board – Get in on the action with our score board contest.\nTouchdown Jello Shots – Every time a touchdown is scored\, the celebration gets a little sweeter.\nPrizes Every Quarter – Stick around because we’re giving away prizes at the end of each quarter! \nCome hungry\, come thirsty\, and come ready to cheer. See you on game day!
URL:https://forkdmn.com/event/super-bowl-sunday/
LOCATION:Fork’d\, 1641 Plymouth Road\, Minnetonka\, MN\, 55305\, United States
ATTACH;FMTTYPE=image/jpeg:https://forkdmn.com/wp-content/uploads/2026/02/superbowlsunday2026.jpg
END:VEVENT
BEGIN:VEVENT
DTSTART;VALUE=DATE:20260206
DTEND;VALUE=DATE:20260207
DTSTAMP:20260421T080829
CREATED:20260205T225419Z
LAST-MODIFIED:20260205T225428Z
UID:304-1770336000-1770422399@forkdmn.com
SUMMARY:Friday Fish Fry
DESCRIPTION:Friday Night Fish Fry — A Weekly Tradition!\nEnd the week the right way with our Friday Night Fish Fry! We’re serving up golden\, crispy Alaskan cod made fresh to order – because Fridays were made for fish fry. Grab a seat\, bring the family\, and dig in. \nAlaskan Cod Dinner\nBeer battered Alaskan cod served with waffle fries\, Fork’d slaw\, lemon\, and housemade tartar sauce.\nAlaskan Cod Sandwich\nBeer battered Alaskan cod on a hoagie bun with lettuce\, tomato\, pickles\, waffle fries\, and housemade tartar sauce. \nAvailable every Friday\, come get it while it’s hot!
URL:https://forkdmn.com/event/friday-fish-fry/
LOCATION:Fork’d\, 1641 Plymouth Road\, Minnetonka\, MN\, 55305\, United States
ATTACH;FMTTYPE=image/jpeg:https://forkdmn.com/wp-content/uploads/2026/02/FridayFish.jpg
END:VEVENT
END:VCALENDAR